BEGIN:VCALENDAR
VERSION:2.0
PRODID:-//hacksw/handcal//NONSGML v1.0//EN
BEGIN:VEVENT
SUMMARY:3Bdes Fed 4
UID:b37e71d3-5b3f-47f6-adc1-b5021c7ed19c
DTSTART:20260426T063000Z
DTEND:20260426T183000Z
LOCATION:Localisation   
CATEGORIES:Sportif
STATUS:
DESCRIPTION:<p>Qualification championnat de France
 3Bdes</p><p>Joueurs : Christian, Thibaut et Joel </p>
URL;VALUE=URI:https://www.billardclubplaineduforez.com/evenements/2026/04/26/3bdes-fed-4-2439128
END:VEVENT
END:VCALENDAR
